BEGIN:VCALENDAR
VERSION:2.0
PRODID:https://www.kufer.de/kuferweb / DE
METHOD:PUBLISH
CALSCALE:GREGORIAN
X-WR-TIMEZONE:Europe/Berlin
BEGIN:VTIMEZONE
TZID:Europe/Berlin
X-LIC-LOCATION:Europe/Berlin
BEGIN:DAYLIGHT
TZOFFSETFROM:+0100
TZOFFSETTO:+0200
TZNAME:CEST
DTSTART:19700329T020000
RRULE:FREQ=YEARLY;INTERVAL=1;BYDAY=-1SU;BYMONTH=3
END:DAYLIGHT
BEGIN:STANDARD
TZOFFSETFROM:+0200
TZOFFSETTO:+0100
TZNAME:CET
DTSTART:19701025T030000
RRULE:FREQ=YEARLY;INTERVAL=1;BYDAY=-1SU;BYMONTH=10
END:STANDARD
END:VTIMEZONE
BEGIN:VEVENT
DTSTAMP:20260423T101322
DTSTART;TZID=Europe/Berlin:20260318T093000
DTEND;TZID=Europe/Berlin:20260318T160000
UID:26T4000902-20260318T093000@10-5STUDIENINSTITUT ESSEN, FORTBILDUNG
SUMMARY:Einführung in die Arbeit mit Serienbrief- und Reportvorlagen im Schulverwaltungsprogramm SchILD zentral (26T4000902) 
LOCATION:Studieninstitut, Raum 1.028 (EDV), Blücherstr. 1, 45141 Essen
END:VEVENT
BEGIN:VEVENT
DTSTAMP:20260423T101322
DTSTART;TZID=Europe/Berlin:20260319T093000
DTEND;TZID=Europe/Berlin:20260319T160000
UID:26T4000902-20260319T093000@10-5STUDIENINSTITUT ESSEN, FORTBILDUNG
SUMMARY:Einführung in die Arbeit mit Serienbrief- und Reportvorlagen im Schulverwaltungsprogramm SchILD zentral (26T4000902) 
LOCATION:Studieninstitut, Raum 1.028 (EDV), Blücherstr. 1, 45141 Essen
END:VEVENT
END:VCALENDAR